BEGIN:VCALENDAR
PRODID:NingEventWidget-v1
VERSION:2.0
METHOD:PUBLISH
BEGIN:VEVENT
UID:4320450:Event:35333
DTSTAMP:20260425T144240Z
SUMMARY:Holidays in Manayunk!
DESCRIPTION:Kick off Holidays in Manayunk with the Manayunk Christmas 
 Tree lighting, a visit from Santa and tons of other fun, festive activ
 ities! It’s a perfect chance to get some holiday shopping done as we
 ll! Buy Something Special, Someplace Special! For more information and
  updates on our other Saturday promotional events in December leading 
 up to Christmas, visit: Manayunk.com\n\nFor more information visit htt
 p://phillytodo.com/events/holidays-in-manayunk-1
DTSTART:20131207T200000Z
DTEND:20131208T010000Z
CATEGORIES:holiday
LOCATION:Canal View Park in Manayunk
WEBSITE:http://www.manayunk.com
URL:http://www.manayunk.com
CONTACT:
ORGANIZER;CN="Manayunk.com":http://phillytodo.com/profile/Manayunkcom
ATTACH;FMTTYPE="image/jpeg":http://storage.ning.com/topology/rest/1.0/
 file/get/3054968201?profile=original
ATTENDEE;ROLE=REQ-PARTICIPANT;PARTSTAT=ACCEPTED;RSVP=TRUE;CN="Manayunk
 .com":http://phillytodo.com/profile/Manayunkcom
END:VEVENT
END:VCALENDAR
