BEGIN:VCALENDAR
PRODID:NingEventWidget-v1
VERSION:2.0
METHOD:PUBLISH
BEGIN:VEVENT
UID:4320450:Event:56636
DTSTAMP:20260425T130609Z
SUMMARY:Holidays at Historic Strawberry Mansion
DESCRIPTION:Be sure to visit Historic Strawberry Mansion this holiday 
 season, Fairmount Park’s largest historic house. This year, the Gard
 en Club of Philadelphia and Vicinity and The Porch Club of Riverton wi
 ll decorate Historic Strawberry Mansion with the theme of “A Very St
 oried Christmas,” saluting the long history of the Free Library of P
 hiladelphia and its 130 years of promoting literacy for all Philadelph
 ia citizens.  Each room will depict a scene from a beloved Christmas 
 story, including The Nutcracker and The Night Before Christmas.  Tour
 s are available throughout the season, giving visitors an opportunity 
 to view the mansion’s beautiful decor, as well as an impressive coll
 ection of dolls and vintage toys dating back to the 18th century.\n\nT
 ours available Wednesdays - Sundays 10AM-4pm.  The mansion is closed 
 December 24-26.\n\nFor more information visit http://phillytodo.com/ev
 ents/holidays-at-historic-strawberry-mansion
DTSTART:20181128T150000Z
DTEND:20181231T210000Z
CATEGORIES:holiday
LOCATION:Historic Strawberry Mansion
WEBSITE:
URL:
CONTACT:
ORGANIZER;CN="Bryan Chan":http://phillytodo.com/profile/BryanChan
ATTACH;FMTTYPE="image/jpeg":http://storage.ning.com/topology/rest/1.0/
 file/get/3055016279?profile=original
ATTENDEE;ROLE=REQ-PARTICIPANT;PARTSTAT=ACCEPTED;RSVP=TRUE;CN="Bryan Ch
 an":http://phillytodo.com/profile/BryanChan
END:VEVENT
END:VCALENDAR
