BEGIN:VCALENDAR
PRODID:NingEventWidget-v1
VERSION:2.0
METHOD:PUBLISH
BEGIN:VEVENT
UID:4320450:Event:3118
DTSTAMP:20260425T142630Z
SUMMARY:Holiday Trunk Show & Fundraiser to Benefit Dress for Success P
 hiladelphia
DESCRIPTION:Just in time for the holidays! Join Y.E.S! for a Holiday T
 runk Show & Fundraiser to benefit Dress for Success Philadelphia!\n\nW
 e’re bringing together a variety of local designers and artisans to 
 help you find that perfect gift. Twenty percent of all sales will be d
 onated to Dress for Success Philadelphia. Plus, enjoy wine, great food
 , and raffles as we raise money and awareness to help disadvantaged wo
 men of the greater Philadelphia area achieve economic independence.\n\
 nCan’t make it to the Trunk Show? No worries! You can still make a d
 ifference! Just go to http://www.firstgiving.com/yesphiladelphia and m
 ake a tax deductible donation to Dress for Success today!\n\nFor more 
 information visit http://phillytodo.com/events/holiday-trunk-show-fund
 raiser
DTSTART:20101217T220000Z
DTEND:20101218T020000Z
CATEGORIES:holiday, shopping, fundraiser
LOCATION:Projects Gallery
WEBSITE:http://www.projectsgallery.com
URL:http://www.projectsgallery.com
CONTACT:267-303-9652
ORGANIZER;CN="Y.E.S! Philadelphia":http://phillytodo.com/profile/YESPh
 iladelphia
ATTACH;FMTTYPE="image/jpeg":http://storage.ning.com/topology/rest/1.0/
 file/get/3054954259?profile=original
ATTENDEE;ROLE=REQ-PARTICIPANT;PARTSTAT=ACCEPTED;RSVP=TRUE;CN="Y.E.S! P
 hiladelphia":http://phillytodo.com/profile/YESPhiladelphia
END:VEVENT
END:VCALENDAR
