BEGIN:VCALENDAR
PRODID:NingEventWidget-v1
VERSION:2.0
METHOD:PUBLISH
BEGIN:VEVENT
UID:4320450:Event:56316
DTSTAMP:20260425T115030Z
SUMMARY:Holiday Ornament Launch Party
DESCRIPTION:Lauren Mabry was selected to create The Clay Studio's inau
 gural Special Edition Ornament this year. We will raise a glass to cel
 ebrate these beautiful, one-of-a-kind works of art and Lauren will dis
 cuss her unique approach to adding color and line to her ceramic artwo
 rk.\n\nFor more information visit http://phillytodo.com/events/holiday
 -ornament-launch-party
DTSTART:20181115T230000Z
DTEND:20181116T010000Z
CATEGORIES:preview
LOCATION:The Clay Studio
WEBSITE:
URL:
CONTACT:2158678060
ORGANIZER;CN="Bryan Chan":http://phillytodo.com/profile/BryanChan
ATTACH;FMTTYPE="image/jpeg":http://storage.ning.com/topology/rest/1.0/
 file/get/3055016218?profile=original
ATTENDEE;ROLE=REQ-PARTICIPANT;PARTSTAT=ACCEPTED;RSVP=TRUE;CN="Bryan Ch
 an":http://phillytodo.com/profile/BryanChan
END:VEVENT
END:VCALENDAR
