BEGIN:VCALENDAR
PRODID:NingEventWidget-v1
VERSION:2.0
METHOD:PUBLISH
BEGIN:VEVENT
UID:4320450:Event:38889
DTSTAMP:20260425T125034Z
SUMMARY:Holiday Mixology Mixer
DESCRIPTION:Wow your guests this holiday season with your specialty co
 cktail skills by attending this free demonstration and tasting event w
 ith some of the city’s best mixologists from your favorite hot spots
  including Square 1682, Barren Hill Tavern & Brewery, The Victoria Fre
 ehouse, and Stratus Rooftop.   Guests must be 21 years of age or olde
 r. RSVP towww.cashmanandassociates.com/rsvp or rsvp@cashmanandassocia
 tes.com.\n\nFor more information visit http://phillytodo.com/events/ho
 liday-mixology-mixer
DTSTART:20141125T220000Z
DTEND:20141126T000000Z
CATEGORIES:class
LOCATION:The Market & Shops at Comcast Center
WEBSITE:https://www.facebook.com/events/765836056815509/
URL:https://www.facebook.com/events/765836056815509/
CONTACT:
ORGANIZER:Cashman & Associates
ATTACH;FMTTYPE="image/jpeg":http://storage.ning.com/topology/rest/1.0/
 file/get/3054980428?profile=original
ATTENDEE;ROLE=REQ-PARTICIPANT;PARTSTAT=ACCEPTED;RSVP=TRUE;CN=CashmanAs
 soc:http://phillytodo.com/profile/CashmanAssoc
END:VEVENT
END:VCALENDAR
