BEGIN:VCALENDAR
PRODID:NingEventWidget-v1
VERSION:2.0
METHOD:PUBLISH
BEGIN:VEVENT
UID:4320450:Event:169901
DTSTAMP:20260425T112440Z
SUMMARY:Holiday Light Nights
DESCRIPTION:Bring the family to Main Street every Thursday in December
  for Holiday Light Nights! This new weekly event brings food and drink
  deals, shopping specials, and festive live entertainment. Too cold to
  walk? The Jolly Trolley will run up and down Main Street making sever
 al stops at your favorite businesses! Park for free and hop on at 3729
  Main Street (at the movie theater).\n\nFor more information visit htt
 p://phillytodo.com/events/holiday-light-nights
DTSTART:20211202T220000Z
DTEND:20211224T000000Z
CATEGORIES:holiday, "fair/festival"
LOCATION:Manayunk Movie Theater
WEBSITE:http://manayunk.com/events/holidays-in-manayunk.html
URL:http://manayunk.com/events/holidays-in-manayunk.html
CONTACT:2672703075
ORGANIZER;CN="Manayunk Development Corporation":http://phillytodo.com/
 profile/ManayunkDevelopmentCorporation
ATTACH;FMTTYPE="image/jpeg":
ATTENDEE;ROLE=REQ-PARTICIPANT;PARTSTAT=ACCEPTED;RSVP=TRUE;CN="Manayunk
  Development Corporation":http://phillytodo.com/profile/ManayunkDevelo
 pmentCorporation
END:VEVENT
END:VCALENDAR
