BEGIN:VCALENDAR
PRODID:NingEventWidget-v1
VERSION:2.0
METHOD:PUBLISH
BEGIN:VEVENT
UID:4320450:Event:42884
DTSTAMP:20260425T142631Z
SUMMARY:Holiday House Tour
DESCRIPTION:Add style and flair to your holiday decorating with inspir
 ation from some of Chestnut Hill’s architectural gems. The region’
 s most notable designers, florists and retailers decorate each house i
 n full holiday regalia.\n\nFor more information visit http://phillytod
 o.com/events/holiday-house-tour
DTSTART:20151205T150000Z
DTEND:20151205T210000Z
CATEGORIES:holiday, event
LOCATION:Woodmere Art Museum
WEBSITE:http://www.chestnuthillpa.com
URL:http://www.chestnuthillpa.com
CONTACT:215-247-6696
ORGANIZER:Chestnut Hill Business Association
ATTACH;FMTTYPE="image/jpeg":http://storage.ning.com/topology/rest/1.0/
 file/get/3054990144?profile=original
ATTENDEE;ROLE=REQ-PARTICIPANT;PARTSTAT=ACCEPTED;RSVP=TRUE;CN="Bryan Ch
 an":http://phillytodo.com/profile/BryanChan
END:VEVENT
END:VCALENDAR
