BEGIN:VCALENDAR
PRODID:NingEventWidget-v1
VERSION:2.0
METHOD:PUBLISH
BEGIN:VEVENT
UID:4320450:Event:53638
DTSTAMP:20260425T115011Z
SUMMARY:Holiday Centerpiece Workshop
DESCRIPTION:Registration required. Join us at Greensgrow West to make 
 a festive holiday centerpiece for your table or to give as a gift. Weâ
 €™ll discuss traditional and non-traditional looks and design practice
 s. Participants are welcome to bring items to use from their home or g
 arden to incorporate into a finished personalized piece. Get insider t
 ips from our staff expert on choosing the right container for your spa
 ce, gathering the best greens, and basic techniques like invisibly att
 aching a pine cone to a pick and how to make a bow correctly.\nYou can
  choose a container or bring one of your own. If you are bringing one 
 of your own, make sure it is watertight and table top sized.\n\nFor mo
 re information visit http://phillytodo.com/events/holiday-centerpiece-
 workshop
DTSTART:20171213T230000Z
DTEND:20171214T003000Z
CATEGORIES:workshop
LOCATION:Greensgrow West
WEBSITE:http://www.greensgrow.org/event/holiday-centerpiece-workshop-2
 /
URL:http://www.greensgrow.org/event/holiday-centerpiece-workshop-2/
CONTACT:215.427.2780
ORGANIZER;CN="Greensgrow Farms":http://phillytodo.com/profile/Greensgr
 owFarms
ATTACH;FMTTYPE="image/jpeg":http://storage.ning.com/topology/rest/1.0/
 file/get/3055009760?profile=original
ATTENDEE;ROLE=REQ-PARTICIPANT;PARTSTAT=ACCEPTED;RSVP=TRUE;CN="Greensgr
 ow Farms":http://phillytodo.com/profile/GreensgrowFarms
END:VEVENT
END:VCALENDAR
