BEGIN:VCALENDAR
PRODID:NingEventWidget-v1
VERSION:2.0
METHOD:PUBLISH
BEGIN:VEVENT
UID:4320450:Event:53622
DTSTAMP:20260425T143845Z
SUMMARY:Historic Strawberry Mansion Holiday Candlelight Tour
DESCRIPTION:Tour festively decorated Laurel Hill, Woodford, and Histor
 ic Strawberry Mansion on this exclusive tour lit softly by candlelight
 , evoking the past in a unique and lovely way. Friendly and knowledgea
 ble guides share the rich and interesting history of Fairmount Park an
 d the life of the residents who called each of these magnificent build
 ings home. The tour concludes with assorted hors-d'oeuvres and dessert
 s at Historic Strawberry Mansion. Transportation to each house is incl
 uded on a private trolley car. Pick up is at Lloyd Hall (1 Boathouse R
 ow, Philadelphia, PA 19130) at 5:30 pm.\n\nFor more information visit 
 http://phillytodo.com/events/historic-strawberry-mansion-holiday-candl
 elight-tour-3
DTSTART:20171207T223000Z
DTEND:20171208T013000Z
CATEGORIES:tour
LOCATION:Historic Strawberry Mansion
WEBSITE:https://www.eventbrite.com/e/5th-annual-holiday-candlelight-to
 ur-tickets-38956082692
URL:https://www.eventbrite.com/e/5th-annual-holiday-candlelight-tour-t
 ickets-38956082692
CONTACT:215-228-8364
ORGANIZER;CN="Bryan Chan":http://phillytodo.com/profile/BryanChan
ATTACH;FMTTYPE="image/jpeg":http://storage.ning.com/topology/rest/1.0/
 file/get/3055009778?profile=original
ATTENDEE;ROLE=REQ-PARTICIPANT;PARTSTAT=ACCEPTED;RSVP=TRUE;CN="Bryan Ch
 an":http://phillytodo.com/profile/BryanChan
END:VEVENT
END:VCALENDAR
