BEGIN:VCALENDAR
PRODID:NingEventWidget-v1
VERSION:2.0
METHOD:PUBLISH
BEGIN:VEVENT
UID:4320450:Event:34856
DTSTAMP:20260425T130915Z
SUMMARY:Historic Strawberry Mansion Historic Marker Official Dedicatio
 n Ceremony
DESCRIPTION:Join us for the unveiling of Historic Strawberry Mansionâ€
 ™s historic marker during the official Dedication Ceremony. Since 1946
 , the Pennsylvania Historical and Museum Commission has administered a
  program of historic markers to capture the memory of people, places a
 nd events that have affected the lives of Pennsylvanians over time. A 
 reception will be held following the unveiling provided by BrĂ»lĂ©e Ca
 tering.\nRSVP: rsvp@cashmanandassociates.com / 215-627-1060 ext. 103 Â
  \n\nFor more information visit http://phillytodo.com/events/historic-
 strawberry-mansion-historic-marker-official-dedication
DTSTART:20131019T150000Z
DTEND:20131019T170000Z
CATEGORIES:dedication, ceremony, historic, location
LOCATION:Historic Strawberry Mansion
WEBSITE:http://www.historicstrawberrymansion.org
URL:http://www.historicstrawberrymansion.org
CONTACT:215.228.8364
ORGANIZER;CN="Sarah Santos":http://phillytodo.com/profile/SarahSantos
ATTACH;FMTTYPE="image/jpeg":http://storage.ning.com/topology/rest/1.0/
 file/get/3054967507?profile=original
ATTENDEE;ROLE=REQ-PARTICIPANT;PARTSTAT=ACCEPTED;RSVP=TRUE;CN="Sarah Sa
 ntos":http://phillytodo.com/profile/SarahSantos
END:VEVENT
END:VCALENDAR
