BEGIN:VCALENDAR
PRODID:NingEventWidget-v1
VERSION:2.0
METHOD:PUBLISH
BEGIN:VEVENT
UID:4320450:Event:38920
DTSTAMP:20260425T131307Z
SUMMARY:Historic Houses of Fairmount Park Holiday Tours
DESCRIPTION:Fairmount Park’s historic mansions will, once again, be 
 decked out for the holidays during the annual Historic Houses of Fairm
 ount Park Holiday Tours, December 3 - 30, 2014.  The tours, a cherish
 ed Philadelphia tradition, will feature six of the park’s treasured 
 charms – Cedar Grove, Laurel Hill Mansion, Lemon Hill, Mount Pleasan
 t, Strawberry Mansion, and Woodford Mansion – festively decorated to
  create a stunning holiday experience.  The Charms of Fairmount Park 
 Holiday Tours’ presenting sponsor is the Fairmount Park Conservancy.
 \nHoliday Open Houses Visitors may tour as many houses as they wish fo
 r $5 per person per house; children 12 and under are free.\n\nFor more
  information visit http://phillytodo.com/events/historic-houses-of-fai
 rmount-park-holiday-tours
DTSTART:20141203T150000Z
DTEND:20141230T220000Z
CATEGORIES:holiday, tours
LOCATION:Fairmount Park, 6 Locations
WEBSITE:http://www.parkcharms.com
URL:http://www.parkcharms.com
CONTACT:
ORGANIZER;CN="Cari Feiler Bender":http://phillytodo.com/profile/CariFe
 ilerBender
ATTACH;FMTTYPE="image/jpeg":http://storage.ning.com/topology/rest/1.0/
 file/get/3054980735?profile=original
ATTENDEE;ROLE=REQ-PARTICIPANT;PARTSTAT=ACCEPTED;RSVP=TRUE;CN="Cari Fei
 ler Bender":http://phillytodo.com/profile/CariFeilerBender
END:VEVENT
END:VCALENDAR
