BEGIN:VCALENDAR
PRODID:NingEventWidget-v1
VERSION:2.0
METHOD:PUBLISH
BEGIN:VEVENT
UID:4320450:Event:36693
DTSTAMP:20260425T144255Z
SUMMARY:Hispanic Fiesta
DESCRIPTION:The Hispanic Fiesta at Penn’s Landing is one of Philadel
 phia’s premier Latino events, drawing upwards of 15,000 people each 
 day. The festival continues to unite and raise awareness of Latino cul
 ture and community through the celebration of music, dance, entertainm
 ent, ethnic foods, and artisan crafts from nearly all Latin American c
 ountries.\n\nFor more information visit http://phillytodo.com/events/h
 ispanic-fiesta
DTSTART:20140712T180000Z
DTEND:20140714T000000Z
CATEGORIES:festival, waterfront
LOCATION:Great Plaza at Penn's Landing
WEBSITE:http://www.delawareriverwaterfront.com/events/hispanic-fiesta-
 2014
URL:http://www.delawareriverwaterfront.com/events/hispanic-fiesta-2014
CONTACT:215-922-2386
ORGANIZER;CN="Delaware River Waterfront Corp.":http://phillytodo.com/p
 rofile/DelawareRiverWaterfrontCorp
ATTACH;FMTTYPE="image/jpeg":http://storage.ning.com/topology/rest/1.0/
 file/get/3054974926?profile=original
ATTENDEE;ROLE=REQ-PARTICIPANT;PARTSTAT=ACCEPTED;RSVP=TRUE;CN="Delaware
  River Waterfront Corp.":http://phillytodo.com/profile/DelawareRiverWa
 terfrontCorp
END:VEVENT
END:VCALENDAR
