BEGIN:VCALENDAR
PRODID:NingEventWidget-v1
VERSION:2.0
METHOD:PUBLISH
BEGIN:VEVENT
UID:4320450:Event:45269
DTSTAMP:20260425T144559Z
SUMMARY:Hikayat Wa Fan, Storytelling & Art
DESCRIPTION:Join Al-Bustan for a fun-filled afternoon of storytelling 
 and art-making for children & families at one of our favorite places t
 o play, Smith Memorial Playground & Playhouse!Storytelling is one of t
 he oldest art practices in history and is an especially important oral
  tradition within Arab culture. This spring event is fun for the whole
  family and will feature local Arabic storytellers, Eliane Sfeir-Marku
 s, Nashid Ali, and Susan Fayad. Each brings their own distinctive stor
 ytelling style in English and Arabic. Children are given the opportuni
 ty to develop new language skills by learning Arabic words through int
 eractive storytelling methods. With a full schedule, children can cho
 ose from participating in storytelling, enjoying the playground, or en
 gaging in the various art activities that will be offered including: d
 esigning geometric patterns –a familiar Arab tradition of art-making
 , making a Masbaha (prayer beads), and writing their names in Arabic c
 alligraphy.\n\nFor more information visit http://phillytodo.com/events
 /hikayat-wa-fan-storytelling-art
DTSTART:20160403T173000Z
DTEND:20160403T200000Z
CATEGORIES:family, fun
LOCATION:Smith Memorial Playground & Playhouse
WEBSITE:http://smithplayground.org/
URL:http://smithplayground.org/
CONTACT:2678093668
ORGANIZER;CN="Al-Bustan Seeds of Culture":http://phillytodo.com/profil
 e/AlBustanSeedsofCulture
ATTACH;FMTTYPE="image/jpeg":http://storage.ning.com/topology/rest/1.0/
 file/get/3054995989?profile=original
ATTENDEE;ROLE=REQ-PARTICIPANT;PARTSTAT=ACCEPTED;RSVP=TRUE;CN="Al-Busta
 n Seeds of Culture":http://phillytodo.com/profile/AlBustanSeedsofCultu
 re
END:VEVENT
END:VCALENDAR
