BEGIN:VCALENDAR
PRODID:NingEventWidget-v1
VERSION:2.0
METHOD:PUBLISH
BEGIN:VEVENT
UID:4320450:Event:41128
DTSTAMP:20260425T112755Z
SUMMARY:Highlights of East Passyunk
DESCRIPTION:This fascinating walking tour explores the incredibly po
 pular neighborhood in South Philly that’s booming withcutting-edge s
 hops and ambitious restaurants that would rather set trends than follo
 w them. The Highlights of East Passyunk tour is the best place to get 
 the most up-to-date scoop on all of the openings and closings in this 
 foodie mecca that Food and Wine Magazine named one of the 10 best foo
 die streets in America.This two-hour afternoon tour demystifies the 
 places that have put East Passyunk on the map and have catapulted this
  quaint street from its humble beginnings into the epicenter of the ci
 ty’s culinary scene.\nWe’ll start at one end of the Avenue and mak
 e our way past many of the local highlights, share stories of the res
 taurateurs, their restaurants and bars, and visit:\n\niconic landmarks
 \nstunning murals\neclectic retail scene with stops in Urban Jungle, a
 nd more\n\nWe’ll be stoping into the following great places:\n\nVolt
 a Market for a fun intro to how they make their housemade organic soa
 ps and balms\nBirra for their famous brick oven pizza\nVanilya Bakery
  for a handmade pastry\nThe Bottle Shop to enjoy a Belgian Tripel\nP
 'unk Burger to try one of their popular shakes\nPollyodd for a limon
 cello tasting\n\nThis tour is not meant to be a meal, but an exciting 
 eye-opening opportunity to get familiar with many of the city’s move
 rs and shakers in the culinary and retail scene. The timing of the to
 ur is perfect for anyone who wants to stick around and try the restaur
 ants we talk about, like Bing Bing Dumplings, Fond,  Noord, since mos
 t open right when the tour concludes.This tour is designed to give you
  everything you need to know to make East Passyunk your go-to neighbor
 hood every chance you get!\n\nFor more information visit http://philly
 todo.com/events/highlights-of-east-passyunk
DTSTART:20150627T190000Z
DTEND:20150829T210000Z
CATEGORIES:tour
LOCATION:East Passyunk Avenue
WEBSITE:http://www.cityfoodtours.com/philadelphia/highlights_of_east_p
 assyunk.html
URL:http://www.cityfoodtours.com/philadelphia/highlights_of_east_passy
 unk.html
CONTACT:2155461234
ORGANIZER:City Food Tours
ATTACH;FMTTYPE="image/jpeg":http://storage.ning.com/topology/rest/1.0/
 file/get/3054989406?profile=original
ATTENDEE;ROLE=REQ-PARTICIPANT;PARTSTAT=ACCEPTED;RSVP=TRUE;CN="Robert W
 einberg":http://phillytodo.com/profile/RobertWeinberg
END:VEVENT
END:VCALENDAR
