BEGIN:VCALENDAR
PRODID:NingEventWidget-v1
VERSION:2.0
METHOD:PUBLISH
BEGIN:VEVENT
UID:4320450:Event:46204
DTSTAMP:20260425T125851Z
SUMMARY:Hidden River Blues Festival
DESCRIPTION:The 2nd Annual Hidden River Blues Festival is a celebratio
 n of one of the most inspirational and eclectic genres of modern music
 . The festival takes place at Venice Island Outdoor Amphitheater throu
 ghout the day on August 13th with performances from local and national
 ly known Blues acts, a variety of food vendors, and a beer garden. Thi
 s is a family-friendly event for music lovers of all ages. With Perfo
 rmances By:Charlie MusselwhiteSamantha FishJames Supra Blues BandDeb C
 allahan BandGeorgie \"The Blacksmith\" BondsMike Mettalia & Midnight S
 hiftStella Ruze\n\nFor more information visit http://phillytodo.com/ev
 ents/hidden-river-blues-festival
DTSTART:20160813T150000Z
DTEND:20160814T020000Z
CATEGORIES:festival
LOCATION:Venice Island Outdoor Amphitheater
WEBSITE:http://manayunk.com/news-and-events/signature-events/hidden-ri
 ver-blues-festival.html
URL:http://manayunk.com/news-and-events/signature-events/hidden-river-
 blues-festival.html
CONTACT:
ORGANIZER;CN="Manayunk Development Corporation":http://phillytodo.com/
 profile/ManayunkDevelopmentCorporation
ATTACH;FMTTYPE="image/jpeg":http://storage.ning.com/topology/rest/1.0/
 file/get/3054995891?profile=original
ATTENDEE;ROLE=REQ-PARTICIPANT;PARTSTAT=ACCEPTED;RSVP=TRUE;CN="Manayunk
  Development Corporation":http://phillytodo.com/profile/ManayunkDevelo
 pmentCorporation
END:VEVENT
END:VCALENDAR
