BEGIN:VCALENDAR
PRODID:NingEventWidget-v1
VERSION:2.0
METHOD:PUBLISH
BEGIN:VEVENT
UID:4320450:Event:32254
DTSTAMP:20260425T143054Z
SUMMARY:Hidden City Festival Kickoff 2103
DESCRIPTION:Come join us at the Goldtex Building on 11th and Wolf to c
 elebrate the opening of the Hidden City Festival 2013, Block Party sty
 le. You will be treated to live music and a dance party under the Read
 ing Viaduct while enjoying great food and drinks. There will be craft 
 beer sold on site by Philadelphia Brewing Co. and Commonwealth Ciders 
 as well as gourmet food trucks including The Dapper Dog and Spot Burge
 r. Party starts at 7 and runs until 11pm, at which point we will be mo
 ving on to the Trestle Inn for the official after-party. Hope to see y
 ou there! \n\nFor more information visit http://phillytodo.com/events
 /hidden-city-festival-kickoff-2103
DTSTART:20130525T230000Z
DTEND:20130526T030000Z
CATEGORIES:festival
LOCATION:Goldtex Building
WEBSITE:http://hiddencityphila.ticketleap.com/kickoff/
URL:http://hiddencityphila.ticketleap.com/kickoff/
CONTACT:
ORGANIZER;CN="Brendan Walsh":http://phillytodo.com/profile/BrendanWals
 h
ATTACH;FMTTYPE="image/jpeg":
ATTENDEE;ROLE=REQ-PARTICIPANT;PARTSTAT=ACCEPTED;RSVP=TRUE;CN="Brendan 
 Walsh":http://phillytodo.com/profile/BrendanWalsh
END:VEVENT
END:VCALENDAR
