BEGIN:VCALENDAR
PRODID:NingEventWidget-v1
VERSION:2.0
METHOD:PUBLISH
BEGIN:VEVENT
UID:4320450:Event:34643
DTSTAMP:20260425T144302Z
SUMMARY:Historic Strawberry Mansion Grand Re-Opening Celebration
DESCRIPTION:Join us to celebrate the official Grand Re-Opening of Hist
 oric Strawberry Mansion! Uncover the four year restoration and preserv
 ation efforts of the largest historic house in Fairmount Park, includi
 ng its unique collection of antiques, fine art and collectible treasur
 es from the 18th and 19th century. Plus, a never before seen mural pai
 nted by Dot Bunn and Patrick Connors titled The Portage Trail to Straw
 berry Mansion will be unveiled! Cocktail reception provided by Brûlé
 e Catering.\nRSVP: rsvp@cashmanandassociates.com / 215-627-1060 ext. 1
 03  \n\nFor more information visit http://phillytodo.com/events/hi
DTSTART:20131017T200000Z
DTEND:20131017T230000Z
CATEGORIES:re-opening
LOCATION:Historic Strawberry Mansion
WEBSITE:http://www.historicstrawberrymansion.org
URL:http://www.historicstrawberrymansion.org
CONTACT:215.228.8364
ORGANIZER;CN="Sarah Santos":http://phillytodo.com/profile/SarahSantos
ATTACH;FMTTYPE="image/jpeg":http://storage.ning.com/topology/rest/1.0/
 file/get/3054967507?profile=original
ATTENDEE;ROLE=REQ-PARTICIPANT;PARTSTAT=ACCEPTED;RSVP=TRUE;CN="Sarah Sa
 ntos":http://phillytodo.com/profile/SarahSantos
END:VEVENT
END:VCALENDAR
