BEGIN:VCALENDAR
PRODID:NingEventWidget-v1
VERSION:2.0
METHOD:PUBLISH
BEGIN:VEVENT
UID:4320450:Event:2305
DTSTAMP:20260425T124844Z
SUMMARY:Hero Thrill Show
DESCRIPTION:The Hero Thrill Show was initiated in 1954. The previous y
 ear 8 firefighters were killed fighting a conflagration. The mission o
 f the Hero Thrill Show is to raise money in order to pay for the colle
 ge tuition of the children of Police Officers and/or Firefighters kill
 ed in the line of duty. Until January 2006, the Hero Thrill Show was p
 roduced by the Hero Scholarship Fund. Since 2006, The Hero Thrill Show
  is produced by the Hero Thrill Show, Inc. There is NO affiliation bet
 ween the Hero Thrill Show, Inc. and the Hero Scholarship Fund.\n\nOn J
 anuary 20, 2006 the President of the Hero Scholarship Fund announced t
 hat \"After carefully comparing revenues over the past several years, 
 including decreases as well as the expense and difficulty in putting o
 n the show, it has been decided to discontinue the show....\" In April
 , 2006, James J. Binns, a Philadelphia Lawyer founded the Hero Thrill 
 Show Inc. which assumed the production of the Hero Thrill Show and the
  administration of the funds generated by the Hero Thrill Show. The He
 ro Thrill Show Inc, is NOT affiliated with the Hero Scholarship Fund. 
 The Board of Directors is chaired by Mr. Binns and is comprised of the
  Police Commissioner, Fire Commissioner, President of the Fraternal Or
 der of Police Lodge Number 5, President of the International Associati
 on of Firefighters, Local 22, every member of City Council and a numbe
 r of Philadelphia Business Leaders.\n\nFor more information visit http
 ://phillytodo.com/events/hero-thrill-show
DTSTART:20100918T160000Z
DTEND:20100918T210000Z
CATEGORIES:charity
LOCATION:Wells Fargo Center (Outdoors) Broad and Patterson Street, Phi
 ladelphia, PA. (South Philadelphia).
WEBSITE:http://maps.google.com/maps?f=q&hl=en&q=3601+South+Broad+St,+P
 hiladelphia,+PA+19145&sll=39.747487,-105.007989&sspn=0.008414,0.026994
 &ie=UTF8&z=16&ll=39.905539,-75.173521&spn=0.008395,0.026994&t=h&om=1&i
 wloc=addr
URL:http://maps.google.com/maps?f=q&hl=en&q=3601+South+Broad+St,+Phila
 delphia,+PA+19145&sll=39.747487,-105.007989&sspn=0.008414,0.026994&ie=
 UTF8&z=16&ll=39.905539,-75.173521&spn=0.008395,0.026994&t=h&om=1&iwloc
 =addr
CONTACT:
ORGANIZER;CN="Phillytodo.com":http://phillytodo.com/profile/PhillyToDo
 com
ATTACH;FMTTYPE="image/jpeg":http://storage.ning.com/topology/rest/1.0/
 file/get/3054950610?profile=original
ATTENDEE;ROLE=REQ-PARTICIPANT;PARTSTAT=ACCEPTED;RSVP=TRUE;CN="Paul Mil
 es":http://phillytodo.com/profile/PaulMiles
ATTENDEE;ROLE=REQ-PARTICIPANT;PARTSTAT=ACCEPTED;RSVP=TRUE;CN="Phillyto
 do.com":http://phillytodo.com/profile/PhillyToDocom
END:VEVENT
END:VCALENDAR
