BEGIN:VCALENDAR
PRODID:NingEventWidget-v1
VERSION:2.0
METHOD:PUBLISH
BEGIN:VEVENT
UID:4320450:Event:49453
DTSTAMP:20260425T125549Z
SUMMARY:Heritage Reading: A Taste of Honey by Shelagh Delaney
DESCRIPTION:Inis Nua Theatre Company presents the 2017 Heritage Readin
 g: A Taste of Honey by Shelagh Delaney on Monday, April 10, 2017, at 7
 :00pm, at The Proscenium Theater at The Drake (302 Hicks St). The year
 ly Heritage Reading features a play that has inspired the next generat
 ion of playwrights. Premiering in 1958, this groundbreaking play follo
 ws a 17-year-old working class girl as she navigates the class, race a
 nd sexual divisions of 1950s Great Britain. British dramatist Shelagh 
 Delaney wrote the play when she was 18, hoping use British theatre to 
 address social issues. It was part of the “kitchen sink” genre and
  did play a part in revolutionizing theatre in England.  Tickets are 
 on sale for $10.00 by calling (215) 454-9776 or visiting inisnuatheatr
 e.org.\n \n\nFor more information visit http://phillytodo.com/events/
 heritage-reading-a-taste-of-honey-by-shelagh-delaney
DTSTART:20170410T230000Z
DTEND:20170411T010000Z
CATEGORIES:reading, series
LOCATION:The Proscenium Theater at The Drake
WEBSITE:http://inisnuatheatre.org/reading-series/
URL:http://inisnuatheatre.org/reading-series/
CONTACT:215-454-9776
ORGANIZER:Inis Nua
ATTACH;FMTTYPE="image/jpeg":http://storage.ning.com/topology/rest/1.0/
 file/get/3055003565?profile=original
ATTENDEE;ROLE=REQ-PARTICIPANT;PARTSTAT=ACCEPTED;RSVP=TRUE;CN="Aversa P
 R & Events":http://phillytodo.com/profile/KoryAversa277
END:VEVENT
END:VCALENDAR
