BEGIN:VCALENDAR
PRODID:NingEventWidget-v1
VERSION:2.0
METHOD:PUBLISH
BEGIN:VEVENT
UID:4320450:Event:39711
DTSTAMP:20260425T130736Z
SUMMARY:Heart Jewel Meditation: A Daily Practice
DESCRIPTION:Heart Jewel is the main practice of Kadampa Buddhism. It h
 elps us to drop the weight of fatigue and weariness that we so often c
 arry with us and increases our energy, positivity, and warmth so that 
 our meditation practice can be successful. Learn how to turn your hear
 t into a jewel and become the happy, loving person we all have the pot
 ential to be. Everyone is welcome at this special day course.\n$30 per
  person\n\nCourse Schedule:\nRegistration: 10:30am-11:00am\nTeaching a
 nd Meditation: 11:00am-12:30pm\nLunch: 12:30-2:00pm\nTeaching and Medi
 tation: 2:00-4:00pm\n\nFor more information visit http://phillytodo.co
 m/events/heart-jewel-meditation-a-daily-practice
DTSTART:20150131T160000Z
DTEND:20150131T210000Z
CATEGORIES:meditation, class, wellness, buddhism, health, stress
LOCATION:Amitayus Kadampa Buddhist Center
WEBSITE:http://www.meditationinphiladelphia.org/heart-jewel-a-daily-me
 ditation-practice/
URL:http://www.meditationinphiladelphia.org/heart-jewel-a-daily-medita
 tion-practice/
CONTACT:267-702-3817
ORGANIZER;CN="Education Program Coordinator":http://phillytodo.com/pro
 file/EducationProgramCoordinator
ATTACH;FMTTYPE="image/jpeg":
ATTENDEE;ROLE=REQ-PARTICIPANT;PARTSTAT=ACCEPTED;RSVP=TRUE;CN="Educatio
 n Program Coordinator":http://phillytodo.com/profile/EducationProgramC
 oordinator
END:VEVENT
END:VCALENDAR
