BEGIN:VCALENDAR
PRODID:NingEventWidget-v1
VERSION:2.0
METHOD:PUBLISH
BEGIN:VEVENT
UID:4320450:Event:35848
DTSTAMP:20260425T141121Z
SUMMARY:Healthy Trails 5k
DESCRIPTION:The Tookany/Tacony-Frankford (TTF) Watershed Partnership i
 s excited to announce registration is now open for theÂ second annualÂ
  Healthy Trails 5K Run & WalkÂ atÂ http://healthytrails5k.com/registra
 tion!\nÂ \nPlease join us with your family and friends at Ferko Playgr
 ound onÂ Sunday, April 13, 2014Â to participate in the 5K run and walk
  through beautiful Tacony Creek Park followed by a Block Party! There 
 is a $20 registration fee for adults, and kids 12 & under can run for 
 free!Â \nÂ \nTheÂ Healthy Trails 5k Run & WalkÂ is a partnership of le
 ading organizations from the Northeast Philadelphia community, includi
 ng The TTF Watershed Partnership, The Scattergood Foundation, The Phil
 adelphia Water Department, and the City of Philadelphia Parks & Recrea
 tion office.Â All proceeds will directly benefit the Northeast Philade
 lphia community by supporting safety promotion and continued healthy, 
 family-oriented activity and stewardship in Tacony Creek Park.\nÂ \nPa
 rticipants will also have the opportunity to purchase a bib for theÂ B
 road Street Run!\n\n\n\nFor more information visit http://phillytodo.c
 om/events/healthy-trails-5k
DTSTART:20140413T130000Z
DTEND:20140413T160000Z
CATEGORIES:5k, run, "&", walk
LOCATION:Juniata Park
WEBSITE:http://healthytrails5k.com/
URL:http://healthytrails5k.com/
CONTACT:215-744-1853
ORGANIZER;CN="TTF Watershed Partnership":http://phillytodo.com/profile
 /TTFWatershedPartnership
ATTACH;FMTTYPE="image/jpeg":http://storage.ning.com/topology/rest/1.0/
 file/get/3054973168?profile=original
ATTENDEE;ROLE=REQ-PARTICIPANT;PARTSTAT=ACCEPTED;RSVP=TRUE;CN="TTF Wate
 rshed Partnership":http://phillytodo.com/profile/TTFWatershedPartnersh
 ip
END:VEVENT
END:VCALENDAR
