BEGIN:VCALENDAR
PRODID:NingEventWidget-v1
VERSION:2.0
METHOD:PUBLISH
BEGIN:VEVENT
UID:4320450:Event:34913
DTSTAMP:20260425T144241Z
SUMMARY:Healthy Halloween at Smith
DESCRIPTION:Kids 10 and younger and their caregivers are invited to He
 althy Halloween at Smith. Join us for healthy treats, decorate your ow
 n trick-or-treat bag, slime-making, facepainting, hula hoop lessons, S
 occer Shots demonstrations, live music by The Ticklebombs, the Junior 
 League of Philadelphia and Greener Partners' Farm Explorer truck, and 
 fun in the 6 1/2 acre Playground and 16,000 sq. ft. Playhouse. This ev
 ent is free for Smith members, $10 per child for non-members. To celeb
 rate Halloween, memberships are currently on sale for only $25. Becom
 e a member, or get your tickets today!\n\nFor more information visit 
 http://phillytodo.com/events/healthy-halloween-at-smith
DTSTART:20131026T140000Z
DTEND:20131026T160000Z
CATEGORIES:halloween
LOCATION:Smith Memorial Playground & Playhouse
WEBSITE:http://smithplayground.org
URL:http://smithplayground.org
CONTACT:2157654325
ORGANIZER:Smith Memorial Playground & Playhouse
ATTACH;FMTTYPE="image/jpeg":http://storage.ning.com/topology/rest/1.0/
 file/get/3054967800?profile=original
ATTENDEE;ROLE=REQ-PARTICIPANT;PARTSTAT=ACCEPTED;RSVP=TRUE;CN="Smith Me
 morial Playground":http://phillytodo.com/profile/SmithMemorialPlaygrou
 nd
END:VEVENT
END:VCALENDAR
