BEGIN:VCALENDAR
PRODID:NingEventWidget-v1
VERSION:2.0
METHOD:PUBLISH
BEGIN:VEVENT
UID:4320450:Event:59504
DTSTAMP:20260425T112801Z
SUMMARY:Healing Through Meditation Day Course &amp; Retreat
DESCRIPTION:Everyone wants to be happy all the time, but often our pas
 t comes back to obstruct our present happiness. Buddha taught the main
  obstacle to making progress in the spiritual path is negative karma a
 nd the main cause of our suffering is our negative actions from the pa
 st.On this day, we will receive teachings on the four powers of spirit
 ual purification, which leave us feeling light and help us drop past d
 ifficulties. In this course, we will receive instructions on how to re
 move obstacles from our mind quickly through a simple daily purificati
 on practice.\nEveryone is welcome. No meditation experience is necessa
 ry.\nTaught by meditation teachers, Julie Francisco and Jen DeSantis.\
 n10:30am-11:30am12:30-1:30pm3:00-4:00pm5:00-6:00pm\nEach session is un
 ique and self-contained. Drop-in for one session or stay for all four.
 \nCost: $15/session, $40/all four sessions\n\nFor more information vis
 it http://phillytodo.com/events/healing-through-meditation-day-course-
 amp-retreat
DTSTART:20191117T153000Z
DTEND:20191117T230000Z
CATEGORIES:meditation, buddhism, mindfulness, wellness, buddhist
LOCATION:Kadampa Meditation Center Philadelphia
WEBSITE:https://www.meditationinphiladelphia.org/healing-through-medit
 ation-day-course-retreat/
URL:https://www.meditationinphiladelphia.org/healing-through-meditatio
 n-day-course-retreat/
CONTACT:267-702-3817
ORGANIZER;CN="Education Program Coordinator":http://phillytodo.com/pro
 file/EducationProgramCoordinator
ATTACH;FMTTYPE="image/jpeg":https://storage.ning.com/topology/rest/1.0
 /file/get/3683177070?profile=original
ATTENDEE;ROLE=REQ-PARTICIPANT;PARTSTAT=ACCEPTED;RSVP=TRUE;CN="Educatio
 n Program Coordinator":http://phillytodo.com/profile/EducationProgramC
 oordinator
END:VEVENT
END:VCALENDAR
