BEGIN:VCALENDAR
PRODID:NingEventWidget-v1
VERSION:2.0
METHOD:PUBLISH
BEGIN:VEVENT
UID:4320450:Event:56279
DTSTAMP:20260425T130923Z
SUMMARY:Healing the Past: Meditations for a Free and Open Heart
DESCRIPTION:\n\n\n\n\n\n\nHealing the Past: Meditations for a Free and
  Open Heart Sunday, October 28\nEveryone wants to be happy all the tim
 e, but often our past comes back to obstruct our present happiness. Bu
 ddha taught the main obstacle to making progress in the spiritual path
  is negative karma and the main cause of our suffering is our negative
  actions from the past. In this course, we will receive instructions o
 n how to remove obstacles from our mind quickly  – leaving us refre
 shed, clean, and happy.\nTaught by Resident Teacher, Gen Tenzin.\nSund
 ay Schedule: 10:30am-11:30am 12:30-1:30pm 3:00-4:00pm 5:00-6:00pm\nCos
 t: $5/session or $15/all four.\nAll sessions are unique and self-conta
 ined. Feel free to join any session.\nEveryone is welcome.\nThis cours
 e will be followed by four days of retreat (included in the cost of th
 e course): Tues Oct 30th – Fri, Nov 2nd: 7:00-8:15am, 12:00-1:15pm, 
 and 5:15-6:30pm\nEveryone is welcome. No meditation experience is nece
 ssary.\n\n\nFor more information visit http://phillytodo.com/events/he
 aling-the-past-meditations-for-a-free-and-open-heart
DTSTART:20181028T143000Z
DTEND:20181028T220000Z
CATEGORIES:meditation, buddhism, mindfulness, wellness, buddhist
LOCATION:Kadampa Meditation Center Philadelphia
WEBSITE:http://www.meditationinphiladelphia.org/healing-the-past-medit
 ations-for-a-free-and-open-heart-oct-28/
URL:http://www.meditationinphiladelphia.org/healing-the-past-meditatio
 ns-for-a-free-and-open-heart-oct-28/
CONTACT:267-702-3817
ORGANIZER;CN="Education Program Coordinator":http://phillytodo.com/pro
 file/EducationProgramCoordinator
ATTACH;FMTTYPE="image/jpeg":http://storage.ning.com/topology/rest/1.0/
 file/get/3055015728?profile=original
ATTENDEE;ROLE=REQ-PARTICIPANT;PARTSTAT=ACCEPTED;RSVP=TRUE;CN="Educatio
 n Program Coordinator":http://phillytodo.com/profile/EducationProgramC
 oordinator
END:VEVENT
END:VCALENDAR
