BEGIN:VCALENDAR
PRODID:NingEventWidget-v1
VERSION:2.0
METHOD:PUBLISH
BEGIN:VEVENT
UID:4320450:Event:45263
DTSTAMP:20260425T131124Z
SUMMARY:He Who Gets Slapped by the Philadelphia Artists’ Collective
DESCRIPTION:Behind the curtain of the big top, no one is laughing hard
 er than the saddest clown of them all. Philadelphia Artists’ Collect
 ive, in partnership with Philadelphia School of Circus Arts, presents 
 the Philadelphia premiere of He Who Gets Slapped, from March 30 to Apr
 il 16, 2016, at Broad Street Ministry (315 S. Broad Street). A cast of
  clowns, trapeze artists, lion-tamers and ringmasters perform their ro
 utines under a striped awning and glowing lights.  Tickets are on sal
 e for $25 (or $15 with student identification or under 25) by calling 
 (215) 413-1318 or visiting www.philartistscollective.org.\n\nFor more 
 information visit http://phillytodo.com/events/he-who-gets-slapped-by-
 the-philadelphia-artists-collective
DTSTART:20160331T000000Z
DTEND:20160417T000000Z
CATEGORIES:theatre, show
LOCATION:Broad Street Ministry
WEBSITE:http://www.philartistscollective.org/he-who-gets-slapped.html
URL:http://www.philartistscollective.org/he-who-gets-slapped.html
CONTACT:215.551.1543
ORGANIZER;CN="Aversa PR & Events":http://phillytodo.com/profile/KoryAv
 ersa277
ATTACH;FMTTYPE="image/jpeg":http://storage.ning.com/topology/rest/1.0/
 file/get/3054995921?profile=original
ATTENDEE;ROLE=REQ-PARTICIPANT;PARTSTAT=ACCEPTED;RSVP=TRUE;CN="Aversa P
 R & Events":http://phillytodo.com/profile/KoryAversa277
END:VEVENT
END:VCALENDAR
