BEGIN:VCALENDAR
PRODID:NingEventWidget-v1
VERSION:2.0
METHOD:PUBLISH
BEGIN:VEVENT
UID:4320450:Event:56307
DTSTAMP:20260425T131036Z
SUMMARY:Hawthornes Great Harvest Cider and Beer Festival
DESCRIPTION:Hawthornes Beer Cafe (738 S. 11th St) is closing down 11th
  Street again for the 3rd Annual Great Harvest Cider and Beer Festival
  on Saturday, November 3, 2018, from 11:00am to 8:00pm. This annual fa
 ll festival and block party will feature over 50 seasonal beers, new a
 nd favorite ciders, barrel-aged rarities and wine selections pouring f
 or only five dollars each. Look for Philadelphia’s best food trucks 
 serving up street food, signature bites and fall comfort food. Festivi
 ties will also include a family fun zone, pie eating contest, live ent
 ertainment, DJs and much more. This all-day, all-ages free block party
  takes place on 11th street in front of Hawthornes, from Fitzwater to 
 Catharine. Free admission. Food and drink are pay-as-you-go. Beer and 
 cider are cash only. All ages are welcome. Twenty-one years and older 
 with identification to drink. Rain or shine.\n\nFor more information v
 isit http://phillytodo.com/events/hawthornes-great-harvest-cider-and-b
 eer-festival
DTSTART:20181103T150000Z
DTEND:20181104T000000Z
CATEGORIES:festival
LOCATION:Hawthornes Beer Cafe
WEBSITE:https://www.facebook.com/events/243955829585031/
URL:https://www.facebook.com/events/243955829585031/
CONTACT:215.627.3012
ORGANIZER;CN="Aversa PR & Events":http://phillytodo.com/profile/KoryAv
 ersa277
ATTACH;FMTTYPE="image/jpeg":
ATTENDEE;ROLE=REQ-PARTICIPANT;PARTSTAT=ACCEPTED;RSVP=TRUE;CN="Aversa P
 R & Events":http://phillytodo.com/profile/KoryAversa277
END:VEVENT
END:VCALENDAR
