BEGIN:VCALENDAR
PRODID:NingEventWidget-v1
VERSION:2.0
METHOD:PUBLISH
BEGIN:VEVENT
UID:4320450:Event:50306
DTSTAMP:20260425T133054Z
SUMMARY:Hawthornes’ 8th Annual IPA, Champagne & Rosé Block Party
DESCRIPTION:The hoppiest day of the year is back! Hawthornes Beer Cafe
  (738 S. 11th Street) presents the 8th Annual IPA, Champagne and Rose 
 Block Party on Saturday, July 1, 2017 from 12:00pm to 8:00pm. Come out
  for one of South Philadelphia's largest spring block parties, with ov
 er 75 total selections of beers, champagnes and roses, plus music, fam
 ily fun, food and much more. The party will stretch from Fitzwater to 
 Catharine Streets on 11th Street. From the kitchen, look for street fo
 od and block party back-yard favorites. Enjoy music and entertainment 
 from The John McNutt Trio, Las Palabras, DJ Christophonic and DJ Lexx.
  For the kids, head to the Kids’ Zone with a giant bubble wand, chal
 k obstacle course, bean bag toss, hula hoops, face painting and a gian
 t inflatable slide. The event is open to all ages, 21 and older to dri
 nk. Rain date Sunday, July 2, 2017. Admission is free. All drinks and 
 food are pay-as-you-go. Cash only. For information, visit: www.hawthor
 necafe.com/events\n\nFor more information visit http://phillytodo.com/
 events/hawthornes-8th-annual-ipa-champagne-ros-block-party-1
DTSTART:20170701T160000Z
DTEND:20170702T000000Z
CATEGORIES:block, party
LOCATION:Hawthornes Beer Cafe
WEBSITE:https://www.facebook.com/events/391943787854981/
URL:https://www.facebook.com/events/391943787854981/
CONTACT:(215) 627-3012
ORGANIZER:Hawthornes Beer Cafe
ATTACH;FMTTYPE="image/jpeg":http://storage.ning.com/topology/rest/1.0/
 file/get/3055003686?profile=original
ATTENDEE;ROLE=REQ-PARTICIPANT;PARTSTAT=ACCEPTED;RSVP=TRUE;CN="Aversa P
 R & Events":http://phillytodo.com/profile/KoryAversa277
END:VEVENT
END:VCALENDAR
