BEGIN:VCALENDAR
PRODID:NingEventWidget-v1
VERSION:2.0
METHOD:PUBLISH
BEGIN:VEVENT
UID:4320450:Event:57504
DTSTAMP:20260425T163459Z
SUMMARY:Having a Spiritual Life in the City: Becoming an Inner Being
DESCRIPTION:Just like when a thunderstorm arises we seek shelter, so w
 hen the storms of our minds arise, we need to seek the shelter of peac
 e and wisdom. Being spiritual means we can become someone who has all 
 the inner resources necessary to get through all the ups and downs of 
 life.\n\nBy understanding three special objects, we can gain the inner
  power to protect ourselves from any difficulties life throws our way.
  This is the real meaning of becoming an inner being. The teachings an
 d meditations will be based on traditional sources.\n\nTaught by Resid
 ent Teacher, Gen Tenzin.\n\nEach session builds upon the previous one.
  It is encouraged to attend all sessions.\n\n10:30am – 12:00pm: Teac
 hing\n1:30 – 2:30pm: Meditation\n2:45 – 4:00pm: Teaching, Discussi
 on, and Q & A\n\nCost: $40, $20/members\n\nEveryone is welcome.\n\nFor
  more information visit http://phillytodo.com/events/having-a-spiritua
 l-life-in-the-city-becoming-an-inner-being
DTSTART:20190309T153000Z
DTEND:20190309T210000Z
CATEGORIES:meditation, buddhism, mindfulness, wellness, buddhist
LOCATION:Kadampa Meditation Center Philadelphia
WEBSITE:
URL:
CONTACT:
ORGANIZER;CN="Education Program Coordinator":http://phillytodo.com/pro
 file/EducationProgramCoordinator
ATTACH;FMTTYPE="image/jpeg":
ATTENDEE;ROLE=REQ-PARTICIPANT;PARTSTAT=ACCEPTED;RSVP=TRUE;CN="Educatio
 n Program Coordinator":http://phillytodo.com/profile/EducationProgramC
 oordinator
END:VEVENT
END:VCALENDAR
