BEGIN:VCALENDAR
PRODID:NingEventWidget-v1
VERSION:2.0
METHOD:PUBLISH
BEGIN:VEVENT
UID:4320450:Event:2611
DTSTAMP:20260425T173456Z
SUMMARY:Haunted Mansion 'N' Woods
DESCRIPTION:2nd annual Haunted House\n\nCome tour the old cellar, once
  the home of the infamous count Dreer some say you can still see his g
 host.\n\nWalk the ancient grave yard and feel the spirits.\n\nFor more
  information visit http://phillytodo.com/events/haunted-mansion-n-wood
 s
DTSTART:20101023T210000Z
DTEND:20101024T020000Z
CATEGORIES:haunted, house
LOCATION:Hayes Manor
WEBSITE:http://www.facebook.com/profile.php?id=100001551060747&v=app_2
 344061033
URL:http://www.facebook.com/profile.php?id=100001551060747&v=app_23440
 61033
CONTACT:215-473-1552
ORGANIZER;CN="Hayes Manor":http://phillytodo.com/profile/HayesManor
ATTACH;FMTTYPE="image/jpeg":http://storage.ning.com/topology/rest/1.0/
 file/get/3054950725?profile=original
ATTENDEE;ROLE=REQ-PARTICIPANT;PARTSTAT=ACCEPTED;RSVP=TRUE;CN="Hayes Ma
 nor":http://phillytodo.com/profile/HayesManor
END:VEVENT
END:VCALENDAR
