BEGIN:VCALENDAR
PRODID:NingEventWidget-v1
VERSION:2.0
METHOD:PUBLISH
BEGIN:VEVENT
UID:4320450:Event:52725
DTSTAMP:20260425T125032Z
SUMMARY:Harvest Festival
DESCRIPTION:The Berkshire Mall Harvest Festival is a family fun-focuse
 d afternoon event with interactive experiences and fun for the whole f
 amily to enjoy! Stop by this free event for pumpkin decorating, face p
 ainting, a photo booth, live music, fall crafts, and MORE. Five lucky 
 visitors will be entered to win a $100 mall shopping spree, so be sure
  to RSVP today! \n\nFor more information visit http://phillytodo.com/
 events/harvest-festival
DTSTART:20171028T160000Z
DTEND:20171028T210000Z
CATEGORIES:fall, festival
LOCATION:Berkshire Mall
WEBSITE:http://www.berkshiremall.com
URL:http://www.berkshiremall.com
CONTACT:610-376-8661
ORGANIZER;CN=CashmanAssoc:http://phillytodo.com/profile/CashmanAssoc
ATTACH;FMTTYPE="image/jpeg":http://storage.ning.com/topology/rest/1.0/
 file/get/3055009584?profile=original
ATTENDEE;ROLE=REQ-PARTICIPANT;PARTSTAT=ACCEPTED;RSVP=TRUE;CN=CashmanAs
 soc:http://phillytodo.com/profile/CashmanAssoc
END:VEVENT
END:VCALENDAR
