BEGIN:VCALENDAR
PRODID:NingEventWidget-v1
VERSION:2.0
METHOD:PUBLISH
BEGIN:VEVENT
UID:4320450:Event:46506
DTSTAMP:20260425T163244Z
SUMMARY:Hard Rock Philadelphia Offers Civil Servants 71 Cent Burgers
DESCRIPTION:On Tuesday, June 14th, Hard Rock Cafe locations across the
  country will celebrate its 45th birthday and its successful expansion
  over the years. To celebrate its official opening in 1971, the Hard R
 ock Philadelphia is offering civil servants who visit the cafe any Leg
 endary Burger for only 71 cents. For more details visit,\nwww.hardrock
 .com/Philadelphia\n\nFor more information visit http://phillytodo.com/
 events/hard-rock-philadelphia-offers-civil-servants-71-cent-burgers
DTSTART:20160614T150000Z
DTEND:20160614T180000Z
CATEGORIES:birthday, food
LOCATION:Hard Rock Cafe, Philadelphia
WEBSITE:http://www.hardrock.com/Philadelphia
URL:http://www.hardrock.com/Philadelphia
CONTACT:2156271060
ORGANIZER;CN=CashmanAssoc:http://phillytodo.com/profile/CashmanAssoc
ATTACH;FMTTYPE="image/jpeg":
ATTENDEE;ROLE=REQ-PARTICIPANT;PARTSTAT=ACCEPTED;RSVP=TRUE;CN=CashmanAs
 soc:http://phillytodo.com/profile/CashmanAssoc
END:VEVENT
END:VCALENDAR
