BEGIN:VCALENDAR
PRODID:NingEventWidget-v1
VERSION:2.0
METHOD:PUBLISH
BEGIN:VEVENT
UID:4320450:Event:49806
DTSTAMP:20260425T144257Z
SUMMARY:Hard Rock Cafe
DESCRIPTION:On May 26th from 6 pm to 10 pm, come join and support l
 ocal Philadelphia-area artists as they perform for a chance to win and
  move onto the next round of Hard Rock Rising!\nHard Rock Rising is a 
 one-of-a-kind global competition that provides an opportunity for aspi
 ring artists of all genres to showcase their talent and connect with n
 ew fans. The winner of the final battle will have the opportunity to p
 erform during a halftime show at the new Hard Rock Stadium, home of th
 e Miami Dolphins, and get a chance to create a professionally-produced
  music video, which will be added to Hard Rock’s worldwide video sys
 tem.\n\nFor more information visit http://phillytodo.com/events/hard-r
 ock-cafe
DTSTART:20170526T220000Z
DTEND:20170527T020000Z
CATEGORIES:music
LOCATION:Hard Rock Cafe
WEBSITE:
URL:
CONTACT:
ORGANIZER;CN=CashmanAssoc:http://phillytodo.com/profile/CashmanAssoc
ATTACH;FMTTYPE="image/jpeg":
ATTENDEE;ROLE=REQ-PARTICIPANT;PARTSTAT=ACCEPTED;RSVP=TRUE;CN=CashmanAs
 soc:http://phillytodo.com/profile/CashmanAssoc
END:VEVENT
END:VCALENDAR
