BEGIN:VCALENDAR
PRODID:NingEventWidget-v1
VERSION:2.0
METHOD:PUBLISH
BEGIN:VEVENT
UID:4320450:Event:49665
DTSTAMP:20260425T143843Z
SUMMARY:Hard Rock Cafe Philadelphia Presents Hot Jam Factory
DESCRIPTION:Hard Rock Cafe hosting Hot Jam Factory, for a live perform
 ance. Aside from their record achievements, HJF is known for their ext
 ravagant live performances packed with surprises and energy. Grab a fa
 mous Hard Rock Legendary Burger and jam to the tunes from vintage gara
 ge rock to powerful folk ballads, and high energy dance-oriented rock.
  Event is 18 and older.\n\nFor more information visit http://phillytod
 o.com/events/hard-rock-cafe-philadelphia-presents-hot-jam-factory
DTSTART:20170421T000000Z
DTEND:20170421T050000Z
CATEGORIES:concert
LOCATION:Hard Rock Cafe
WEBSITE:
URL:
CONTACT:2152677060
ORGANIZER;CN=CashmanAssoc:http://phillytodo.com/profile/CashmanAssoc
ATTACH;FMTTYPE="image/jpeg":
ATTENDEE;ROLE=REQ-PARTICIPANT;PARTSTAT=ACCEPTED;RSVP=TRUE;CN=CashmanAs
 soc:http://phillytodo.com/profile/CashmanAssoc
END:VEVENT
END:VCALENDAR
