BEGIN:VCALENDAR
PRODID:NingEventWidget-v1
VERSION:2.0
METHOD:PUBLISH
BEGIN:VEVENT
UID:4320450:Event:869
DTSTAMP:20260425T144628Z
SUMMARY:Happy Hour Yoga: A Yoga + Beer Event
DESCRIPTION:Two favorite ways to relax--yoga and beer--combined!\nA Vi
 nyasa yoga class, taught by Theresa Conroy, followed by a tutored beer
  tasting led by Philly's most famous beer expert, The Philadelphia Dai
 ly News' Joe Sixpack.\nPre-registration required.\nJust $25!\n\nFor mo
 re information visit http://phillytodo.com/events/happy-hour-yoga-a-yo
 ga-beer
DTSTART:20100219T230000Z
DTEND:20100220T013000Z
CATEGORIES:yoga, "class/beer", tasting
LOCATION:Yoga on The Ridge
WEBSITE:http://www.yogaontheridge.com
URL:http://www.yogaontheridge.com
CONTACT:215-792-6400
ORGANIZER;CN="Theresa Conroy":http://phillytodo.com/profile/TheresaCon
 roy
ATTACH;FMTTYPE="image/jpeg":http://storage.ning.com/topology/rest/1.0/
 file/get/3054944665?profile=original
ATTENDEE;ROLE=REQ-PARTICIPANT;PARTSTAT=ACCEPTED;RSVP=TRUE;CN="Theresa 
 Conroy":http://phillytodo.com/profile/TheresaConroy
END:VEVENT
END:VCALENDAR
