BEGIN:VCALENDAR
PRODID:NingEventWidget-v1
VERSION:2.0
METHOD:PUBLISH
BEGIN:VEVENT
UID:4320450:Event:31220
DTSTAMP:20260425T185929Z
SUMMARY:Happy Hour of the Day! 3/24/13
DESCRIPTION:Lookin' for something to wash down the ol' morning after w
 hiskey taste in your mouth? Check out Snockey's Oyster and Crab House.
 \n\nToday, and every Sunday, enjoy these specials from 2-4PM:\n\n$0.60
  Raw & Steamed clams, $0.83 Raw & Fried Oysters, $1.99 Domestic Pints,
  $2.50 Domestic Bottles, $3.99 Clam Mary's, $5.99 Crab Fries.\n\nEven 
 if your eyes can't look at another glass of beer or your nose can't ha
 ndle the next whiff of tequila, you can do your heart a favor and suck
  down some Omega 3 Fatty Acids from their gorgeous seafood selection. 
 Always look on the bright side.\n\nFor more information visit http://p
 hillytodo.com/events/happy-hour-of-the-day-3-24-13
DTSTART:20130324T180000Z
DTEND:20130324T200000Z
CATEGORIES:sunday, funday, happy, hour
LOCATION:South Street/Queen Village
WEBSITE:http://www.snockeys.com/index.htm
URL:http://www.snockeys.com/index.htm
CONTACT:
ORGANIZER;CN="Alex Muller @BrotherlyFood":http://phillytodo.com/profil
 e/AlexMuller
ATTACH;FMTTYPE="image/jpeg":http://storage.ning.com/topology/rest/1.0/
 file/get/3001054653?profile=original
ATTENDEE;ROLE=REQ-PARTICIPANT;PARTSTAT=ACCEPTED;RSVP=TRUE;CN="Alex Mul
 ler @BrotherlyFood":http://phillytodo.com/profile/AlexMuller
END:VEVENT
END:VCALENDAR
