BEGIN:VCALENDAR
PRODID:NingEventWidget-v1
VERSION:2.0
METHOD:PUBLISH
BEGIN:VEVENT
UID:4320450:Event:22409
DTSTAMP:20260425T144741Z
SUMMARY:Happy Hour at Tattooed Moms to Help Homeless Animals
DESCRIPTION:\n\n\"Philly Off-leash\" - Enjoy drink specials, socializi
 ng, networking with pet lovers, industry professionals, and animal wel
 fare advocates. Are you a pet lover? Rescue advocate? Professional in 
 the pet industry? Interested in becoming one or looking to get involve
 d? Tap into the power of “Philly Off Leash” and connect with like-
 minded people. “Philly Off leash” events are open and even better 
 – they are FREE! It’s about an open exchange of ideas, networking,
  getting to know others in the community and having fun!Our next “Ph
 illy Off Leash” happy hour is at Tattooed Mom’s on South Street! T
 here will be half price on all draft beer and their famous 50¢ perogi
 e special. In addition, each attendee will get a \"Mom's Chip\" discou
 nt - a Mom's branded poker chip which gets you 50¢ off all food and d
 rink items not already on special. The chip is good for life and can b
 e used on return visits!Our featured charity is “Clays for Strays”
  - created by talented artist Arielle Morris to help raise money for u
 nwanted strays and homeless animals. You’ll see samples of her amazi
 ng clay figurines and learn how you can get one custom made of your pe
 t!I hope you can join us for “Philly Off Leash” and bring a friend
  or two! Please RSVP on our Facebook Page, “Philly Off Leash” so w
 e can get an approximate head count. Hope to see you there!Note: Unfor
 tunately, dogs are NOT permitted at this event\n\n\n\n\n\nFor more inf
 ormation visit http://phillytodo.com/events/happy-hour-at-tattooed-mom
 s-to-help-homeless-animals
DTSTART:20111215T230000Z
DTEND:20111216T010000Z
CATEGORIES:fundraiser
LOCATION:Tattooed Mom's
WEBSITE:https://www.facebook.com/events/327248397289710/
URL:https://www.facebook.com/events/327248397289710/
CONTACT:215-900-2811
ORGANIZER;CN="The Philly Dog":http://phillytodo.com/profile/RebeccaBra
 glio
ATTACH;FMTTYPE="image/jpeg":http://storage.ning.com/topology/rest/1.0/
 file/get/3054954910?profile=original
ATTENDEE;ROLE=REQ-PARTICIPANT;PARTSTAT=ACCEPTED;RSVP=TRUE;CN="The Phil
 ly Dog":http://phillytodo.com/profile/RebeccaBraglio
END:VEVENT
END:VCALENDAR
