BEGIN:VCALENDAR
PRODID:NingEventWidget-v1
VERSION:2.0
METHOD:PUBLISH
BEGIN:VEVENT
UID:4320450:Event:34782
DTSTAMP:20260425T143438Z
SUMMARY:HANG ON with Aaron Nevins
DESCRIPTION:The comedy talk show you can talk to, featuring special gu
 ests KEVIN ALLISON (MTV's The State, the RISK podcast) and DAVE HILL (
 This American Life, author of Tasteful Nudes), plus a panel of comics 
 Tim Butterly, Kevin Ryan, and Mike Alloy, and standup comedy from Joe 
 Murdock.\n\nTickets just $5 at https://hangon.brownpapertickets.com\n\
 nLike us on Facebook at https://www.facebook.com/HangOnShow\n\nFor mor
 e information visit http://phillytodo.com/events/hang-on-with-aaron-ne
 vins
DTSTART:20131117T010000Z
DTEND:20131117T030000Z
CATEGORIES:comedy, talk, show
LOCATION:Plays & Players Theater
WEBSITE:https://hangon.brownpapertickets.com
URL:https://hangon.brownpapertickets.com
CONTACT:(609) 287-9194
ORGANIZER;CN="Aaron Nevins":http://phillytodo.com/profile/AaronNevins
ATTACH;FMTTYPE="image/jpeg":http://storage.ning.com/topology/rest/1.0/
 file/get/3054967689?profile=original
ATTENDEE;ROLE=REQ-PARTICIPANT;PARTSTAT=ACCEPTED;RSVP=TRUE;CN="Aaron Ne
 vins":http://phillytodo.com/profile/AaronNevins
END:VEVENT
END:VCALENDAR
