BEGIN:VCALENDAR
PRODID:NingEventWidget-v1
VERSION:2.0
METHOD:PUBLISH
BEGIN:VEVENT
UID:4320450:Event:38482
DTSTAMP:20260425T123603Z
SUMMARY:HANG ON w/ The Dead Milkmen
DESCRIPTION:Spontaneous and unpredictable comedy talk show where the a
 udience can be part of the conversation. This month's amazing guests i
 nclude THE DEAD MILKMEN (the legendary band behind the hits “Punk Ro
 ck Girl,” “Bitchin’ Camaro” & more), plus bestselling author A
 LICE OZMA and a panel of some of the best comedians from Philly and Ne
 w York. Tickets just five bucks!\n\nFor more information visit http://
 phillytodo.com/events/hang-on-w-the-dead-milkmen
DTSTART:20141018T000000Z
DTEND:20141018T020000Z
CATEGORIES:comedy, talk, show
LOCATION:Adrienne Theater
WEBSITE:https://hangon.brownpapertickets.com
URL:https://hangon.brownpapertickets.com
CONTACT:6092879194
ORGANIZER:
ATTACH;FMTTYPE="image/jpeg":http://storage.ning.com/topology/rest/1.0/
 file/get/3054981375?profile=original
ATTENDEE;ROLE=REQ-PARTICIPANT;PARTSTAT=ACCEPTED;RSVP=TRUE;CN="Aaron Ne
 vins":http://phillytodo.com/profile/AaronNevins
END:VEVENT
END:VCALENDAR
