BEGIN:VCALENDAR
PRODID:NingEventWidget-v1
VERSION:2.0
METHOD:PUBLISH
BEGIN:VEVENT
UID:4320450:Event:56639
DTSTAMP:20260425T125818Z
SUMMARY:Handcrafted Holidays at the Clay Studio
DESCRIPTION:Receive a discount as you shop, watch demonstrations, hear
  decorating tips, and taste great food and drink!\n\nFor more informat
 ion visit http://phillytodo.com/events/handcrafted-holidays-at-the-cla
 y-studio
DTSTART:20181201T160000Z
DTEND:20181201T220000Z
CATEGORIES:holiday, celebration
LOCATION:The Clay Studio
WEBSITE:https://public.theclaystudio.org/public/hand-crafted
URL:https://public.theclaystudio.org/public/hand-crafted
CONTACT:
ORGANIZER;CN="Bryan Chan":http://phillytodo.com/profile/BryanChan
ATTACH;FMTTYPE="image/jpeg":https://storage.ning.com/topology/rest/1.0
 /file/get/154948683?profile=original
ATTENDEE;ROLE=REQ-PARTICIPANT;PARTSTAT=ACCEPTED;RSVP=TRUE;CN="Bryan Ch
 an":http://phillytodo.com/profile/BryanChan
END:VEVENT
END:VCALENDAR
