BEGIN:VCALENDAR
PRODID:NingEventWidget-v1
VERSION:2.0
METHOD:PUBLISH
BEGIN:VEVENT
UID:4320450:Event:2880
DTSTAMP:20260425T173515Z
SUMMARY:Halloween Party - Phriday Night Phever Phright Night
DESCRIPTION:Friday October 29th - Phriday Night Phever's Phright Night
  Halloween Party\nFriday October 29th 2010 – Party Starts at 9 PM\n\
 nJOIN THE PHEVER PARTY GROUP PAGE @ link below:\nwww.facebook.com/eddi
 etully#!/group.php?gid=122623067793562\n\nCalling all Party Goers...Th
 is is one Halloween Party you wont want to miss. Phriday Night Phever 
 presents Phright Night. A Halloween Party that has the Phunk of Phrida
 y Night combined with the Phrighting Pheeling of Halloween.\n\n$35.00 
 Pre-Sale Ticket Includes: 3 Hour Open Bar from 9 PM to 12 Midnight. Bu
 ffet and Giveaways. $3 Bacardi Bombs and $3 SoCo and Lime Shots and ot
 her select shots!\n\nDJ Eddie Tully and DJ P-Leah Spinning ALL NIGHT\n
 Joined by your Phever Phriends and guest bartenders!\n\nCostume Contes
 t with $1,000 in Cash and Prizes\n\nPurchase Tickets from one of your 
 Phever Phriends, or by visting McFadden’s Ballpark (Call 215-952-030
 0 ext. 10) or online by visiting www.mcfaddensballpark.com or log onto
 :\n\nhttps://store.mcfaddenssaloon.com/index.php?catid=18\n\nFor more 
 information visit http://phillytodo.com/events/halloween-party-phriday
 -night
DTSTART:20101030T010000Z
DTEND:20101030T060000Z
CATEGORIES:halloween, party
LOCATION:McFadden's Ball Park - Phriday Night Phever
WEBSITE:http://www.mcfaddensballpark.com
URL:http://www.mcfaddensballpark.com
CONTACT:
ORGANIZER;CN="Eddie Tully":http://phillytodo.com/profile/EddieTully508
ATTACH;FMTTYPE="image/jpeg":http://storage.ning.com/topology/rest/1.0/
 file/get/3054950821?profile=original
ATTENDEE;ROLE=REQ-PARTICIPANT;PARTSTAT=ACCEPTED;RSVP=TRUE;CN="Eddie Tu
 lly":http://phillytodo.com/profile/EddieTully508
END:VEVENT
END:VCALENDAR
