BEGIN:VCALENDAR
PRODID:NingEventWidget-v1
VERSION:2.0
METHOD:PUBLISH
BEGIN:VEVENT
UID:4320450:Event:34842
DTSTAMP:20260425T143452Z
SUMMARY:Halloween Party at Old Eagle Tavern
DESCRIPTION:Come celebrate Halloween at Old Eagle Tavern!  We will ha
 ve pumpkin beers on tap, along with pumpkin food specials.  There wil
 l also be pumpkin mixed drinks & beer floats!  \n\nFor more informati
 on visit http://phillytodo.com/events/halloween-party-at-old-eagle-tav
 ern
DTSTART:20131031T230000Z
DTEND:20131101T060000Z
CATEGORIES:halloween, party
LOCATION:Old Eagle Tavern
WEBSITE:http://oldeagletavern.com
URL:http://oldeagletavern.com
CONTACT:2154835535
ORGANIZER;CN="Punch Media":http://phillytodo.com/profile/PunchMedia
ATTACH;FMTTYPE="image/jpeg":http://storage.ning.com/topology/rest/1.0/
 file/get/3054967513?profile=original
ATTENDEE;ROLE=REQ-PARTICIPANT;PARTSTAT=ACCEPTED;RSVP=TRUE;CN="Punch Me
 dia":http://phillytodo.com/profile/PunchMedia
END:VEVENT
END:VCALENDAR
