BEGIN:VCALENDAR
PRODID:NingEventWidget-v1
VERSION:2.0
METHOD:PUBLISH
BEGIN:VEVENT
UID:4320450:Event:170841
DTSTAMP:20260425T125009Z
SUMMARY:Halloween in MNYK
DESCRIPTION: Bring the whole family - pets, too - to Manayunk for a s
 pooky Halloween celebration! Trick-or-Treating will take place on Main
  Street at select small businesses from 11AM-2PM. \n\n\nFor more info
 rmation visit http://phillytodo.com/events/halloween-in-mnyk
DTSTART:20221029T150000Z
DTEND:20221029T180000Z
CATEGORIES:trick-or-treat
LOCATION:Main Street Manayunk
WEBSITE:https://manayunk.com/events/halloween-in-manayunk.html
URL:https://manayunk.com/events/halloween-in-manayunk.html
CONTACT:2672703075
ORGANIZER;CN="Manayunk Development Corporation":http://phillytodo.com/
 profile/ManayunkDevelopmentCorporation
ATTACH;FMTTYPE="image/jpeg":https://storage.ning.com/topology/rest/1.0
 /file/get/10802032062?profile=original
ATTENDEE;ROLE=REQ-PARTICIPANT;PARTSTAT=ACCEPTED;RSVP=TRUE;CN="Manayunk
  Development Corporation":http://phillytodo.com/profile/ManayunkDevelo
 pmentCorporation
END:VEVENT
END:VCALENDAR
