BEGIN:VCALENDAR
PRODID:NingEventWidget-v1
VERSION:2.0
METHOD:PUBLISH
BEGIN:VEVENT
UID:4320450:Event:42310
DTSTAMP:20260425T124901Z
SUMMARY:Halloween in Manayunk
DESCRIPTION:WHAT: Halloween In Manayunk\nWHERE: Main St Manayunk\nTIME
 : 11am-5pm\nWHEN: Saturday, October 24\n \n \nCome for the thrill of
  it! A day filled with activities for children and adults alike. Manay
 unk offers a fun and safe way to celebrate Halloween! From trick-or-tr
 eating along Main Street and a costume parade to the Philadelphia Flea
  Market, Manayunk offers a variety of activities for families to celeb
 rate the holiday!   11AM: Trick or Treating Begins 12PM: Dog Parade 1P
 M: Kid's Costume Parade 2PM: Pumpkin Carving Contest 3PM: Movie Night 
  HAPPENING ALL DAY: Kid's Crafts, Face Painting, Straw Maze  Stay tune
 d for more 2015 event details!\n \n\nFor more information visit http:
 //phillytodo.com/events/halloween-in-manayunk
DTSTART:20151024T150000Z
DTEND:20151024T210000Z
CATEGORIES:family
LOCATION:Manayunk Development Corporation
WEBSITE:http://manayunk.com/about-us/contact-us.html
URL:http://manayunk.com/about-us/contact-us.html
CONTACT:215-482-9565
ORGANIZER;CN="Manayunk Development Corporation":http://phillytodo.com/
 profile/ManayunkDevelopmentCorporation
ATTACH;FMTTYPE="image/jpeg":http://storage.ning.com/topology/rest/1.0/
 file/get/3054990443?profile=original
ATTENDEE;ROLE=REQ-PARTICIPANT;PARTSTAT=ACCEPTED;RSVP=TRUE;CN="Manayunk
  Development Corporation":http://phillytodo.com/profile/ManayunkDevelo
 pmentCorporation
END:VEVENT
END:VCALENDAR
