BEGIN:VCALENDAR
PRODID:NingEventWidget-v1
VERSION:2.0
METHOD:PUBLISH
BEGIN:VEVENT
UID:4320450:Event:169104
DTSTAMP:20260425T114224Z
SUMMARY:Halloween in Manayunk
DESCRIPTION:Manayunk keeps it spooky but safe for your family with act
 ivities, Halloween-themed vendors and a costume parade to highlight th
 e fright!\nSchedule;\nKids and Pet Costume Parade at 10 am\nMain Stree
 t Trick-or-Treating at 11 am - 2pm\n\nFor more information visit http:
 //phillytodo.com/events/halloween-in-manayunk-5
DTSTART:20211030T140000Z
DTEND:20211030T180000Z
CATEGORIES:holiday, "fair/festival"
LOCATION:Main Street, Manayunk
WEBSITE:http://manayunk.com/events/halloween-in-manayunk.html
URL:http://manayunk.com/events/halloween-in-manayunk.html
CONTACT:2154829565
ORGANIZER;CN="Manayunk Development Corporation":http://phillytodo.com/
 profile/ManayunkDevelopmentCorporation
ATTACH;FMTTYPE="image/jpeg":https://storage.ning.com/topology/rest/1.0
 /file/get/9629795493?profile=original
ATTENDEE;ROLE=REQ-PARTICIPANT;PARTSTAT=ACCEPTED;RSVP=TRUE;CN="Manayunk
  Development Corporation":http://phillytodo.com/profile/ManayunkDevelo
 pmentCorporation
END:VEVENT
END:VCALENDAR
