BEGIN:VCALENDAR
PRODID:NingEventWidget-v1
VERSION:2.0
METHOD:PUBLISH
BEGIN:VEVENT
UID:4320450:Event:52562
DTSTAMP:20260425T125009Z
SUMMARY:Halloween In Manayunk
DESCRIPTION:Come for the thrill of it! A day filled with activities fo
 r children and adults alike. Manayunk offers a fun and safe way to cel
 ebrate Halloween! From trick-or-treating along Main Street and a costu
 me parade to Venice Island, Manayunk offers a variety of activities fo
 r families to celebrate the holiday!\n\nFor more information visit htt
 p://phillytodo.com/events/halloween-in-manayunk-2
DTSTART:20171028T143000Z
DTEND:20171028T200000Z
CATEGORIES:halloween, festival
LOCATION:Main Street in Manayunk
WEBSITE:http://manayunk.com/news-and-events/events/halloween-in-manayu
 nk.html
URL:http://manayunk.com/news-and-events/events/halloween-in-manayunk.h
 tml
CONTACT:(215) 482-9565
ORGANIZER;CN="Manayunk Development Corporation":http://phillytodo.com/
 profile/ManayunkDevelopmentCorporation
ATTACH;FMTTYPE="image/jpeg":http://storage.ning.com/topology/rest/1.0/
 file/get/3055009977?profile=original
ATTENDEE;ROLE=REQ-PARTICIPANT;PARTSTAT=ACCEPTED;RSVP=TRUE;CN="Manayunk
  Development Corporation":http://phillytodo.com/profile/ManayunkDevelo
 pmentCorporation
END:VEVENT
END:VCALENDAR
