BEGIN:VCALENDAR
PRODID:NingEventWidget-v1
VERSION:2.0
METHOD:PUBLISH
BEGIN:VEVENT
UID:4320450:Event:47276
DTSTAMP:20260425T125000Z
SUMMARY:Halloween in Manayunk
DESCRIPTION:Come for the thrill of it! A day filled with activities fo
 r children and adults alike. Manayunk offers a fun and safe way to cel
 ebrate Halloween! From trick-or-treating along Main Street and a costu
 me parade to Venice Island, Manayunk offers a variety of activities fo
 r families to celebrate the holiday!\n\nFor more information visit htt
 p://phillytodo.com/events/halloween-in-manayunk-1
DTSTART:20161022T140000Z
DTEND:20161022T230000Z
CATEGORIES:halloween, event
LOCATION:Main Street in Manayunk
WEBSITE:http://manayunk.com/news-and-events/events/halloween-in-manayu
 nk.html
URL:http://manayunk.com/news-and-events/events/halloween-in-manayunk.h
 tml
CONTACT:215-482-9565
ORGANIZER;CN="Manayunk.com":http://phillytodo.com/profile/Manayunkcom
ATTACH;FMTTYPE="image/jpeg":http://storage.ning.com/topology/rest/1.0/
 file/get/3054998668?profile=original
ATTENDEE;ROLE=REQ-PARTICIPANT;PARTSTAT=ACCEPTED;RSVP=TRUE;CN="Manayunk
 .com":http://phillytodo.com/profile/Manayunkcom
END:VEVENT
END:VCALENDAR
