BEGIN:VCALENDAR
PRODID:NingEventWidget-v1
VERSION:2.0
METHOD:PUBLISH
BEGIN:VEVENT
UID:4320450:Event:38229
DTSTAMP:20260425T130538Z
SUMMARY:Halloween Hikes and Hayrides
DESCRIPTION:Join us for one of the our longest-running traditions!  T
 ake a magical walk through woods aglow with jack-o-lanterns, where you
 ’ll meet friendly talking animals eager to share their nocturnal way
 s.  Enjoy a hayride along a woodland road, a campfire, s’mores, and
  pumpkin painting too.  Don’t miss this unique family favorite.  P
 re-registration required.\n$7/person, discounts for families of 5 or
  more.\n\nFor more information visit http://phillytodo.com/events/hall
 oween-hikes-and-hayrides
DTSTART:20141024T220000Z
DTEND:20141025T020000Z
CATEGORIES:hayride, and, hike
LOCATION:Schuylkill Center for Environmental Education
WEBSITE:http://www.schuylkillcenter.org/
URL:http://www.schuylkillcenter.org/
CONTACT:215-482-7300
ORGANIZER;CN="The Schuylkill Center":http://phillytodo.com/profile/Ann
 aLehrMueser
ATTACH;FMTTYPE="image/jpeg":http://storage.ning.com/topology/rest/1.0/
 file/get/3054980208?profile=original
ATTENDEE;ROLE=REQ-PARTICIPANT;PARTSTAT=ACCEPTED;RSVP=TRUE;CN="The Schu
 ylkill Center":http://phillytodo.com/profile/AnnaLehrMueser
END:VEVENT
END:VCALENDAR
