BEGIN:VCALENDAR
PRODID:NingEventWidget-v1
VERSION:2.0
METHOD:PUBLISH
BEGIN:VEVENT
UID:4320450:Event:56503
DTSTAMP:20260425T142656Z
SUMMARY:Halloween Hikes and Hayrides
DESCRIPTION:Our annual Halloween festival—a family favorite—includ
 es a signature hike through our candlelit forest to meet friendly noct
 urnal animals who will delight you with tales and treats in a beautif
 ul evening forest. After your hike, enjoy hayrides, craft activities, 
 and food truck offerings for dinner. End the night with s’mores by t
 he campfire. The last hike of the evening leaves at 9:15 pm.\n\nSkip 
 the line: Members get to pre-register for half off. Join today!\n\nTi
 ckets:\n$5 online in advance (members only)*\n$10 sold at the door for
  the general public\n\n*Members will receive a link to register online
  via email. If you’re a member and haven’t received an invitation,
  please contact Amy Whisenhunt at amy@schuylkillcenter.org.\n\n\nFor 
 more information visit http://phillytodo.com/events/halloween-hikes-am
 p-hayrides-2
DTSTART:20181026T220000Z
DTEND:20181027T020000Z
CATEGORIES:play, outdoor, kids, holiday, hayride, halloween
LOCATION:Schuylkill Center for Environmental Education
WEBSITE:http://www.schuylkillcenter.org/blog/event/halloween-hikes-hay
 rides-6/
URL:http://www.schuylkillcenter.org/blog/event/halloween-hikes-hayride
 s-6/
CONTACT:215-482-7300
ORGANIZER;CN="The Schuylkill Center":http://phillytodo.com/profile/Ann
 aLehrMueser
ATTACH;FMTTYPE="image/jpeg":http://storage.ning.com/topology/rest/1.0/
 file/get/3055016208?profile=original
ATTENDEE;ROLE=REQ-PARTICIPANT;PARTSTAT=ACCEPTED;RSVP=TRUE;CN="The Schu
 ylkill Center":http://phillytodo.com/profile/AnnaLehrMueser
END:VEVENT
END:VCALENDAR
