BEGIN:VCALENDAR
PRODID:NingEventWidget-v1
VERSION:2.0
METHOD:PUBLISH
BEGIN:VEVENT
UID:4320450:Event:42920
DTSTAMP:20260425T131307Z
SUMMARY:Halloween Family Movie Night: Hotel Transylvania
DESCRIPTION:Join us for our Halloween Family Movie Night featuring Hot
 el Transylvania on Wednesday, October 28th!\n Tons of great Halloween 
 activities and crafts will be available starting at 5pm.  Movie starts
  6pm.  Enjoy Halloween crafts and activities including Make Your Own S
 piderweb, Witch Hat Toss, & more! Plus - Enter to win our Halloween pr
 izes!  Kids can trick or treat around XFINITY Live! - costumes are enc
 ouraged   Specialty themed kids menu will be available.   FREE EVENT! 
 FREE PARKING! FREE POPCORN!\n- See more at: http://www.xfinitylive.com
 /entertainment/event/5566#sthash.pJh2rjmi.dpuf\n\nFor more information
  visit http://phillytodo.com/events/halloween-family-movie-night-hotel
 -transylvania
DTSTART:20151028T210000Z
DTEND:20151029T000000Z
CATEGORIES:halloween, family, movie, night
LOCATION:XFINITY Live! Philadelphia
WEBSITE:http://www.xfinitylive.com/entertainment/event/5566
URL:http://www.xfinitylive.com/entertainment/event/5566
CONTACT:(267) 443-6415
ORGANIZER;CN="XFINITY Live! Philadelphia":http://phillytodo.com/profil
 e/XFINITYLivePhiladelphia
ATTACH;FMTTYPE="image/jpeg":http://storage.ning.com/topology/rest/1.0/
 file/get/3054990193?profile=original
ATTENDEE;ROLE=REQ-PARTICIPANT;PARTSTAT=ACCEPTED;RSVP=TRUE;CN="XFINITY 
 Live! Philadelphia":http://phillytodo.com/profile/XFINITYLivePhiladelp
 hia
END:VEVENT
END:VCALENDAR
