BEGIN:VCALENDAR
PRODID:NingEventWidget-v1
VERSION:2.0
METHOD:PUBLISH
BEGIN:VEVENT
UID:4320450:Event:38635
DTSTAMP:20260425T125013Z
SUMMARY:Halloweekend in Manayunk
DESCRIPTION:Come for the thrill of it! A day filled with activities fo
 r children and adults alike; Manayunk offers a fun and safe way to cel
 ebrate Halloween! From trick-or-treating along Main Street and a costu
 me parade, to the Philadelphia Flea Market and Zombie Thriller Dance O
 ff, Manayunk offers a variety of activities for families to celebrate 
 the holiday! Here’s a timeline of everything that’s going on durin
 g Manayunk’s Halloweekend!\nThursday, October 23rd•    7:00 pm:
  Splatter, one act psychological thriller at Bourbon Blue. $15 tickets
  ahead of time.\nFriday, October 24th•    11:30 am: Haunted Chewy
  Philly Food Tours – Information and tickets here: http://www.zerve.
 com/chewphilly/haunted *additional dates for food tour •    6:30 
 pm: Halloween Family Movie Night at Venice Island Performing Arts & Re
 creation Center\nSaturday, October 25th •    8 am-4 pm: Philadelp
 hia Flea Market from Rector to Lock St. •    12:00-4:00 pm: Trick
  or Treating along Main Street  – Follow the scarecrows and fill yo
 ur candy bag!•    12:30-6:00 pm: Fall Festival in Pretzel Park•
     1:00 pm: Doggie and Kid Costume Parade •    2:00 pm: BYOP 
 – Bring your own carved pumpkin to be judged & win a MNYK prize pack
 age! •    3:00 pm: Zombie Thriller Dance Off – Learn the moves 
 and dress in your zombie best and win cash prizes! •    6:00 pm: 
 Halloween Fire – Watch as we light barrels floating along the Manayu
 nk canal.\nCheck Manayunk.com for more details and updates about all H
 alloween events happening in Manayunk!  \n\nFor more information visi
 t http://phillytodo.com/events/halloweekend-in-manayunk
DTSTART:20141023T220000Z
DTEND:20141025T230000Z
CATEGORIES:family, kids, free, halloween
LOCATION:Main Street Manayunk
WEBSITE:http://www.manayunk.com
URL:http://www.manayunk.com
CONTACT:
ORGANIZER;CN="Manayunk.com":http://phillytodo.com/profile/Manayunkcom
ATTACH;FMTTYPE="image/jpeg":
ATTENDEE;ROLE=REQ-PARTICIPANT;PARTSTAT=ACCEPTED;RSVP=TRUE;CN="Manayunk
 .com":http://phillytodo.com/profile/Manayunkcom
END:VEVENT
END:VCALENDAR
